BEGIN:VCALENDAR
VERSION:2.0
PRODID:-//Fix Hybrid - ECPv6.15.20//NONSGML v1.0//EN
CALSCALE:GREGORIAN
METHOD:PUBLISH
X-ORIGINAL-URL:https://www.fixhybrid.com
X-WR-CALDESC:Events for Fix Hybrid
REFRESH-INTERVAL;VALUE=DURATION:PT1H
X-Robots-Tag:noindex
X-PUBLISHED-TTL:PT1H
BEGIN:VTIMEZONE
TZID:America/New_York
BEGIN:DAYLIGHT
TZOFFSETFROM:-0500
TZOFFSETTO:-0400
TZNAME:EDT
DTSTART:20250309T070000
END:DAYLIGHT
BEGIN:STANDARD
TZOFFSETFROM:-0400
TZOFFSETTO:-0500
TZNAME:EST
DTSTART:20251102T060000
END:STANDARD
BEGIN:DAYLIGHT
TZOFFSETFROM:-0500
TZOFFSETTO:-0400
TZNAME:EDT
DTSTART:20260308T070000
END:DAYLIGHT
BEGIN:STANDARD
TZOFFSETFROM:-0400
TZOFFSETTO:-0500
TZNAME:EST
DTSTART:20261101T060000
END:STANDARD
BEGIN:DAYLIGHT
TZOFFSETFROM:-0500
TZOFFSETTO:-0400
TZNAME:EDT
DTSTART:20270314T070000
END:DAYLIGHT
BEGIN:STANDARD
TZOFFSETFROM:-0400
TZOFFSETTO:-0500
TZNAME:EST
DTSTART:20271107T060000
END:STANDARD
END:VTIMEZONE
BEGIN:VEVENT
DTSTART;TZID=America/New_York:20260606T080000
DTEND;TZID=America/New_York:20260606T170000
DTSTAMP:20260422T204830
CREATED:20260402T172452Z
LAST-MODIFIED:20260409T153448Z
UID:10000047-1780732800-1780765200@www.fixhybrid.com
SUMMARY:Arizona HEV/EV Deep Dive
DESCRIPTION:ACDC will be traveling to Tucson\, Arizona monthly for one year.  We will be holding Saturday classes using our new xEV technician training book as a guide.  These classes will be hands-on in a repair shop.  Click here for more information.
URL:https://www.fixhybrid.com/events/arizona-hev-ev-deep-dive/
LOCATION:Tucson\, AZ\, Tucson\, AZ\, 85730\, United States
CATEGORIES:ACDC Event
ATTACH;FMTTYPE=image/jpeg:https://www.fixhybrid.com/wp-content/uploads/2026/04/Tucson--scaled.jpg
ORGANIZER;CN="Craig":MAILTO:Craig@fixhybrid.com
END:VEVENT
END:VCALENDAR