BEGIN:VCALENDAR
VERSION:2.0
PRODID:-//Fix Hybrid - ECPv6.15.20//NONSGML v1.0//EN
CALSCALE:GREGORIAN
METHOD:PUBLISH
X-WR-CALNAME:Fix Hybrid
X-ORIGINAL-URL:https://www.fixhybrid.com
X-WR-CALDESC:Events for Fix Hybrid
REFRESH-INTERVAL;VALUE=DURATION:PT1H
X-Robots-Tag:noindex
X-PUBLISHED-TTL:PT1H
BEGIN:VTIMEZONE
TZID:America/New_York
BEGIN:DAYLIGHT
TZOFFSETFROM:-0500
TZOFFSETTO:-0400
TZNAME:EDT
DTSTART:20250309T070000
END:DAYLIGHT
BEGIN:STANDARD
TZOFFSETFROM:-0400
TZOFFSETTO:-0500
TZNAME:EST
DTSTART:20251102T060000
END:STANDARD
BEGIN:DAYLIGHT
TZOFFSETFROM:-0500
TZOFFSETTO:-0400
TZNAME:EDT
DTSTART:20260308T070000
END:DAYLIGHT
BEGIN:STANDARD
TZOFFSETFROM:-0400
TZOFFSETTO:-0500
TZNAME:EST
DTSTART:20261101T060000
END:STANDARD
BEGIN:DAYLIGHT
TZOFFSETFROM:-0500
TZOFFSETTO:-0400
TZNAME:EDT
DTSTART:20270314T070000
END:DAYLIGHT
BEGIN:STANDARD
TZOFFSETFROM:-0400
TZOFFSETTO:-0500
TZNAME:EST
DTSTART:20271107T060000
END:STANDARD
END:VTIMEZONE
BEGIN:VEVENT
DTSTART;TZID=America/New_York:20260321T083000
DTEND;TZID=America/New_York:20260322T173000
DTSTAMP:20260423T004551
CREATED:20240214T153652Z
LAST-MODIFIED:20251113T164806Z
UID:10000023-1774081800-1774200600@www.fixhybrid.com
SUMMARY:2-Day Tesla Class - Orlando\, FL
DESCRIPTION:This is a 2-day Tesla-only class that will be held at an independant shop in Orlando\, FL. Craig Van Batenburg will be helping you understand the Tesla scan tool\, the components\, and service information. A factory scan tool is now available\, so we have a business case for this OEM. We will focus on the Model 3. They went on sale as a M/Y 2017. 4 year-48K mile warranty. Tesla service centers are backed up.  Now is the time to get on board. Includes service information\, 4-gig jump drive\, lunch\, and the class. \n\nKits for evaluating the SOH (Stage Of Health) of most batteries\nAnd More\n\nYou will Receive: \n\nTraining Materials on a Jump Drive\nLunch\, drinks\, and snacks\n\nTo register email Craig@fixhybrid.com or call 508-826-4546.
URL:https://www.fixhybrid.com/events/tesla-fl/
LOCATION:Orlando\, Orlando\, FL\, United States
CATEGORIES:ACDC Event
ATTACH;FMTTYPE=image/webp:https://www.fixhybrid.com/wp-content/uploads/2022/08/Tesla-Zero-Craig-scaled-1.webp
END:VEVENT
END:VCALENDAR