BEGIN:VCALENDAR
VERSION:2.0
PRODID:-//Fix Hybrid - ECPv6.15.20//NONSGML v1.0//EN
CALSCALE:GREGORIAN
METHOD:PUBLISH
X-ORIGINAL-URL:https://www.fixhybrid.com
X-WR-CALDESC:Events for Fix Hybrid
REFRESH-INTERVAL;VALUE=DURATION:PT1H
X-Robots-Tag:noindex
X-PUBLISHED-TTL:PT1H
BEGIN:VTIMEZONE
TZID:UTC
BEGIN:STANDARD
TZOFFSETFROM:+0000
TZOFFSETTO:+0000
TZNAME:UTC
DTSTART:20240101T000000
END:STANDARD
END:VTIMEZONE
BEGIN:VEVENT
DTSTART;TZID=UTC:20250416T080000
DTEND;TZID=UTC:20250417T170000
DTSTAMP:20260423T204813
CREATED:20220906T192554Z
LAST-MODIFIED:20250226T005115Z
UID:10000005-1744790400-1744909200@www.fixhybrid.com
SUMMARY:New York City Autoshow Media Days
DESCRIPTION:ACDC will be at the NYC Auto Show  April 16 -17  Media Days.
URL:https://www.fixhybrid.com/events/new-york-city-autoshow-media-days/
LOCATION:AZ
CATEGORIES:ACDC Event
ATTACH;FMTTYPE=image/jpeg:https://www.fixhybrid.com/wp-content/uploads/2022/09/20171030_092319-scaled.jpg
END:VEVENT
END:VCALENDAR