BEGIN:VCALENDAR
VERSION:2.0
PRODID:-//Fix Hybrid - ECPv6.15.20//NONSGML v1.0//EN
CALSCALE:GREGORIAN
METHOD:PUBLISH
X-ORIGINAL-URL:https://www.fixhybrid.com
X-WR-CALDESC:Events for Fix Hybrid
REFRESH-INTERVAL;VALUE=DURATION:PT1H
X-Robots-Tag:noindex
X-PUBLISHED-TTL:PT1H
BEGIN:VTIMEZONE
TZID:America/New_York
BEGIN:DAYLIGHT
TZOFFSETFROM:-0500
TZOFFSETTO:-0400
TZNAME:EDT
DTSTART:20230312T070000
END:DAYLIGHT
BEGIN:STANDARD
TZOFFSETFROM:-0400
TZOFFSETTO:-0500
TZNAME:EST
DTSTART:20231105T060000
END:STANDARD
BEGIN:DAYLIGHT
TZOFFSETFROM:-0500
TZOFFSETTO:-0400
TZNAME:EDT
DTSTART:20240310T070000
END:DAYLIGHT
BEGIN:STANDARD
TZOFFSETFROM:-0400
TZOFFSETTO:-0500
TZNAME:EST
DTSTART:20241103T060000
END:STANDARD
BEGIN:DAYLIGHT
TZOFFSETFROM:-0500
TZOFFSETTO:-0400
TZNAME:EDT
DTSTART:20250309T070000
END:DAYLIGHT
BEGIN:STANDARD
TZOFFSETFROM:-0400
TZOFFSETTO:-0500
TZNAME:EST
DTSTART:20251102T060000
END:STANDARD
END:VTIMEZONE
BEGIN:VEVENT
DTSTART;TZID=America/New_York:20240402T080000
DTEND;TZID=America/New_York:20240402T170000
DTSTAMP:20260424T191512
CREATED:20230912T175349Z
LAST-MODIFIED:20240214T152548Z
UID:10000027-1712044800-1712077200@www.fixhybrid.com
SUMMARY:Salvage Yard Training in Tacoma\, WA - Private Customer
DESCRIPTION:Aiden will be teaching in South Jersey for a 2-night hybrid class. It will be on Intro to Hybrid Technology. \nContact ACDC at 508 826 4546 for more info.
URL:https://www.fixhybrid.com/events/syt-tacoma-wa/
LOCATION:Tacoma\, WA\, Tacoma\, WA
CATEGORIES:ACDC Event
ATTACH;FMTTYPE=image/webp:https://www.fixhybrid.com/wp-content/uploads/2023/09/garbage-pile-black-old-car-260nw-2299226393-e1707924321657.webp
END:VEVENT
BEGIN:VEVENT
DTSTART;TZID=America/New_York:20240404T080000
DTEND;TZID=America/New_York:20240404T170000
DTSTAMP:20260424T191512
CREATED:20240214T152850Z
LAST-MODIFIED:20240214T153204Z
UID:10000025-1712217600-1712250000@www.fixhybrid.com
SUMMARY:Salvage Yard Training in Eugene\, OR - Private Customer
DESCRIPTION:Aiden will be teaching in South Jersey for a 2-night hybrid class. It will be on Intro to Hybrid Technology. \nContact ACDC at 508 826 4546 for more info.
URL:https://www.fixhybrid.com/events/syt-eugene-or/
LOCATION:Eugene\, OR
CATEGORIES:ACDC Event
ATTACH;FMTTYPE=image/webp:https://www.fixhybrid.com/wp-content/uploads/2023/09/garbage-pile-black-old-car-260nw-2299226393-e1707924321657.webp
END:VEVENT
END:VCALENDAR