BEGIN:VCALENDAR
VERSION:2.0
PRODID:-//Fix Hybrid - ECPv6.15.20//NONSGML v1.0//EN
CALSCALE:GREGORIAN
METHOD:PUBLISH
X-ORIGINAL-URL:https://www.fixhybrid.com
X-WR-CALDESC:Events for Fix Hybrid
REFRESH-INTERVAL;VALUE=DURATION:PT1H
X-Robots-Tag:noindex
X-PUBLISHED-TTL:PT1H
BEGIN:VTIMEZONE
TZID:UTC
BEGIN:STANDARD
TZOFFSETFROM:+0000
TZOFFSETTO:+0000
TZNAME:UTC
DTSTART:20220101T000000
END:STANDARD
END:VTIMEZONE
BEGIN:VEVENT
DTSTART;TZID=UTC:20230105T190000
DTEND;TZID=UTC:20230105T190000
DTSTAMP:20260425T192800
CREATED:20221206T213531Z
LAST-MODIFIED:20231016T173601Z
UID:10000018-1672945200-1672945200@www.fixhybrid.com
SUMMARY:Grid Charging Class for Plug-In Vehicles Webinar @ 7PM
DESCRIPTION:This one-hour Grid Charging online class will cover the following: \n\nSAE J1772 Level I and II charging.\nWhat does each pin do\nWe will look at the wiring diagrams and explain what the common problems are\nDC fast charging. We will explain the 3 types.\nWe will explain why ACDC created what we call a SEBOB and its use. You will see the scope patterns of known good charging systems\n\nA lot is packed in one hour. A PDF can be downloaded if you take the class live.
URL:https://www.fixhybrid.com/events/grid-charging-class-for-plug-in-vehicles-webinar-7pm/
LOCATION:AZ
CATEGORIES:ACDC Event,Online Training
END:VEVENT
END:VCALENDAR